BEGIN:VCALENDAR
VERSION:2.0
PRODID:-//Nexus Maine - ECPv6.15.20//NONSGML v1.0//EN
CALSCALE:GREGORIAN
METHOD:PUBLISH
X-WR-CALNAME:Nexus Maine
X-ORIGINAL-URL:https://www.nexusmaine.com
X-WR-CALDESC:Events for Nexus Maine
REFRESH-INTERVAL;VALUE=DURATION:PT1H
X-Robots-Tag:noindex
X-PUBLISHED-TTL:PT1H
BEGIN:VTIMEZONE
TZID:America/New_York
BEGIN:DAYLIGHT
TZOFFSETFROM:-0500
TZOFFSETTO:-0400
TZNAME:EDT
DTSTART:20240310T070000
END:DAYLIGHT
BEGIN:STANDARD
TZOFFSETFROM:-0400
TZOFFSETTO:-0500
TZNAME:EST
DTSTART:20241103T060000
END:STANDARD
BEGIN:DAYLIGHT
TZOFFSETFROM:-0500
TZOFFSETTO:-0400
TZNAME:EDT
DTSTART:20250309T070000
END:DAYLIGHT
BEGIN:STANDARD
TZOFFSETFROM:-0400
TZOFFSETTO:-0500
TZNAME:EST
DTSTART:20251102T060000
END:STANDARD
BEGIN:DAYLIGHT
TZOFFSETFROM:-0500
TZOFFSETTO:-0400
TZNAME:EDT
DTSTART:20260308T070000
END:DAYLIGHT
BEGIN:STANDARD
TZOFFSETFROM:-0400
TZOFFSETTO:-0500
TZNAME:EST
DTSTART:20261101T060000
END:STANDARD
END:VTIMEZONE
BEGIN:VEVENT
DTSTART;TZID=America/New_York:20251106T123000
DTEND;TZID=America/New_York:20251106T170000
DTSTAMP:20260422T193708
CREATED:20250915T195739Z
LAST-MODIFIED:20250915T195739Z
UID:170000023-1762432200-1762448400@www.nexusmaine.com
SUMMARY:The Better Maine Conference: Strengthening Maine’s Talent Pipeline
DESCRIPTION:A regional workforce attraction summit focused on rural Maine.
URL:https://www.nexusmaine.com/event/the-better-maine-conference-strengthening-maines-talent-pipeline/
LOCATION:Greene Block + Studios\, 18 Main Street\, Waterville\, 04901\, United States
END:VEVENT
END:VCALENDAR