BEGIN:VCALENDAR
VERSION:2.0
PRODID:-//Nexus Maine - ECPv6.15.20//NONSGML v1.0//EN
CALSCALE:GREGORIAN
METHOD:PUBLISH
X-WR-CALNAME:Nexus Maine
X-ORIGINAL-URL:https://www.nexusmaine.com
X-WR-CALDESC:Events for Nexus Maine
REFRESH-INTERVAL;VALUE=DURATION:PT1H
X-Robots-Tag:noindex
X-PUBLISHED-TTL:PT1H
BEGIN:VTIMEZONE
TZID:America/New_York
BEGIN:DAYLIGHT
TZOFFSETFROM:-0500
TZOFFSETTO:-0400
TZNAME:EDT
DTSTART:20240310T070000
END:DAYLIGHT
BEGIN:STANDARD
TZOFFSETFROM:-0400
TZOFFSETTO:-0500
TZNAME:EST
DTSTART:20241103T060000
END:STANDARD
BEGIN:DAYLIGHT
TZOFFSETFROM:-0500
TZOFFSETTO:-0400
TZNAME:EDT
DTSTART:20250309T070000
END:DAYLIGHT
BEGIN:STANDARD
TZOFFSETFROM:-0400
TZOFFSETTO:-0500
TZNAME:EST
DTSTART:20251102T060000
END:STANDARD
BEGIN:DAYLIGHT
TZOFFSETFROM:-0500
TZOFFSETTO:-0400
TZNAME:EDT
DTSTART:20260308T070000
END:DAYLIGHT
BEGIN:STANDARD
TZOFFSETFROM:-0400
TZOFFSETTO:-0500
TZNAME:EST
DTSTART:20261101T060000
END:STANDARD
END:VTIMEZONE
BEGIN:VEVENT
DTSTART;TZID=America/New_York:20251108T130000
DTEND;TZID=America/New_York:20251108T170000
DTSTAMP:20260423T072945
CREATED:20251011T183855Z
LAST-MODIFIED:20251011T183855Z
UID:170000029-1762606800-1762621200@www.nexusmaine.com
SUMMARY:TEDxDirigo
DESCRIPTION:It’s been five years since the last TEDxDirigo event\, and the world has transformed. The beauty of humanity is that we evolve with it. \nTEDxDirigo has always been about amplifying voices that challenge us to think differently\, explore new possibilities\, and reimagine the path forward. It’s also about community. And we have to say—we’ve missed you. \nOn November 8\, 2025\, TEDxDirigo returns to Innovation Hall at UNE in Portland\, Maine with a new theme: FLUX. \nChange is the only constant. A force shaping our lives every day\, challenging us to keep up — and keep going. How do you adapt and innovate? How do you go with the flux? \nJoin us for a day of powerful ideas\, bold conversations\, and the inspiration to shape what’s next.
URL:https://www.nexusmaine.com/event/tedxdirigo/
END:VEVENT
END:VCALENDAR