BEGIN:VCALENDAR
VERSION:2.0
PRODID:-//Nexus Maine - ECPv6.15.20//NONSGML v1.0//EN
CALSCALE:GREGORIAN
METHOD:PUBLISH
X-WR-CALNAME:Nexus Maine
X-ORIGINAL-URL:https://www.nexusmaine.com
X-WR-CALDESC:Events for Nexus Maine
REFRESH-INTERVAL;VALUE=DURATION:PT1H
X-Robots-Tag:noindex
X-PUBLISHED-TTL:PT1H
BEGIN:VTIMEZONE
TZID:America/New_York
BEGIN:DAYLIGHT
TZOFFSETFROM:-0500
TZOFFSETTO:-0400
TZNAME:EDT
DTSTART:20240310T070000
END:DAYLIGHT
BEGIN:STANDARD
TZOFFSETFROM:-0400
TZOFFSETTO:-0500
TZNAME:EST
DTSTART:20241103T060000
END:STANDARD
BEGIN:DAYLIGHT
TZOFFSETFROM:-0500
TZOFFSETTO:-0400
TZNAME:EDT
DTSTART:20250309T070000
END:DAYLIGHT
BEGIN:STANDARD
TZOFFSETFROM:-0400
TZOFFSETTO:-0500
TZNAME:EST
DTSTART:20251102T060000
END:STANDARD
BEGIN:DAYLIGHT
TZOFFSETFROM:-0500
TZOFFSETTO:-0400
TZNAME:EDT
DTSTART:20260308T070000
END:DAYLIGHT
BEGIN:STANDARD
TZOFFSETFROM:-0400
TZOFFSETTO:-0500
TZNAME:EST
DTSTART:20261101T060000
END:STANDARD
END:VTIMEZONE
BEGIN:VEVENT
DTSTART;TZID=America/New_York:20251111T173000
DTEND;TZID=America/New_York:20251111T200000
DTSTAMP:20260423T072950
CREATED:20251011T182912Z
LAST-MODIFIED:20251011T183009Z
UID:170000027-1762882200-1762891200@www.nexusmaine.com
SUMMARY:Nexus Pickleball Mixer
DESCRIPTION:Join us for an informal night of pickleball\, drinks\, and networking with our friends at Bounce! Exact times are still being decided\, but register now to reserve your spot! \nRSVP Here https://luma.com/1v02pb6f
URL:https://www.nexusmaine.com/event/nexus-pickleball-mixer/
END:VEVENT
BEGIN:VEVENT
DTSTART;TZID=America/New_York:20251111T180000
DTEND;TZID=America/New_York:20251111T200000
DTSTAMP:20260423T072950
CREATED:20251024T193934Z
LAST-MODIFIED:20251024T193934Z
UID:170000031-1762884000-1762891200@www.nexusmaine.com
SUMMARY:Maine JavaScript meetup
DESCRIPTION:Join us at Novare Res in Portland for an evening of networking\, socializing\, and JavaScript!
URL:https://www.nexusmaine.com/event/maine-javascript-meetup/
END:VEVENT
END:VCALENDAR