BEGIN:VCALENDAR
VERSION:2.0
PRODID:-//Nexus Maine - ECPv6.15.20//NONSGML v1.0//EN
CALSCALE:GREGORIAN
METHOD:PUBLISH
X-ORIGINAL-URL:https://www.nexusmaine.com
X-WR-CALDESC:Events for Nexus Maine
REFRESH-INTERVAL;VALUE=DURATION:PT1H
X-Robots-Tag:noindex
X-PUBLISHED-TTL:PT1H
BEGIN:VTIMEZONE
TZID:America/New_York
BEGIN:DAYLIGHT
TZOFFSETFROM:-0500
TZOFFSETTO:-0400
TZNAME:EDT
DTSTART:20250309T070000
END:DAYLIGHT
BEGIN:STANDARD
TZOFFSETFROM:-0400
TZOFFSETTO:-0500
TZNAME:EST
DTSTART:20251102T060000
END:STANDARD
BEGIN:DAYLIGHT
TZOFFSETFROM:-0500
TZOFFSETTO:-0400
TZNAME:EDT
DTSTART:20260308T070000
END:DAYLIGHT
BEGIN:STANDARD
TZOFFSETFROM:-0400
TZOFFSETTO:-0500
TZNAME:EST
DTSTART:20261101T060000
END:STANDARD
BEGIN:DAYLIGHT
TZOFFSETFROM:-0500
TZOFFSETTO:-0400
TZNAME:EDT
DTSTART:20270314T070000
END:DAYLIGHT
BEGIN:STANDARD
TZOFFSETFROM:-0400
TZOFFSETTO:-0500
TZNAME:EST
DTSTART:20271107T060000
END:STANDARD
END:VTIMEZONE
BEGIN:VEVENT
DTSTART;TZID=America/New_York:20260218T163000
DTEND;TZID=America/New_York:20260218T190000
DTSTAMP:20260421T171954
CREATED:20260212T210421Z
LAST-MODIFIED:20260212T210421Z
UID:170000052-1771432200-1771441200@www.nexusmaine.com
SUMMARY:Headshot Happy Hour
DESCRIPTION:A networking event in Portland\, Maine! Grow your local network\, enjoy great local drinks\, and get a new headshot. \n\n\n\n\nHeadshot Happy Hour is back for 2026!\n\n\n\n\nBringing the fun back for the 2nd installment of the 2025 series. We will be bringing these events to different local breweries\, distilleries\, wine bars\, or other happy hour friendly establishments. Bringing local connections together and offering a chance to have a professional headshot taken. \nThese events are for everyone. Whether you are attending to just network\, need a new headshot\, or trying a new local spot.
URL:https://www.nexusmaine.com/event/headshot-happy-hour-2/
END:VEVENT
END:VCALENDAR