BEGIN:VCALENDAR
VERSION:2.0
PRODID:-//Nexus Maine - ECPv6.15.20//NONSGML v1.0//EN
CALSCALE:GREGORIAN
METHOD:PUBLISH
X-ORIGINAL-URL:https://www.nexusmaine.com
X-WR-CALDESC:Events for Nexus Maine
REFRESH-INTERVAL;VALUE=DURATION:PT1H
X-Robots-Tag:noindex
X-PUBLISHED-TTL:PT1H
BEGIN:VTIMEZONE
TZID:America/New_York
BEGIN:DAYLIGHT
TZOFFSETFROM:-0500
TZOFFSETTO:-0400
TZNAME:EDT
DTSTART:20250309T070000
END:DAYLIGHT
BEGIN:STANDARD
TZOFFSETFROM:-0400
TZOFFSETTO:-0500
TZNAME:EST
DTSTART:20251102T060000
END:STANDARD
BEGIN:DAYLIGHT
TZOFFSETFROM:-0500
TZOFFSETTO:-0400
TZNAME:EDT
DTSTART:20260308T070000
END:DAYLIGHT
BEGIN:STANDARD
TZOFFSETFROM:-0400
TZOFFSETTO:-0500
TZNAME:EST
DTSTART:20261101T060000
END:STANDARD
BEGIN:DAYLIGHT
TZOFFSETFROM:-0500
TZOFFSETTO:-0400
TZNAME:EDT
DTSTART:20270314T070000
END:DAYLIGHT
BEGIN:STANDARD
TZOFFSETFROM:-0400
TZOFFSETTO:-0500
TZNAME:EST
DTSTART:20271107T060000
END:STANDARD
END:VTIMEZONE
BEGIN:VEVENT
DTSTART;TZID=America/New_York:20260305T170000
DTEND;TZID=America/New_York:20260305T190000
DTSTAMP:20260421T160147
CREATED:20260207T015235Z
LAST-MODIFIED:20260207T015235Z
UID:170000051-1772730000-1772737200@www.nexusmaine.com
SUMMARY:Climate Salon @ The Roux Institute
DESCRIPTION:The ClimateTech Incubator at Northeastern’s Roux Institute is hosting Climate Salon on March 5 for small-group discussions on what it takes to scale climatetech innovation across blue economy\, built environment\, energy\, food & ag\, and software/AI. \nTable Leads include Laney Brown (Avangrid)\, Mike Jackson (Earthshot Ventures)\, Will Hewes (Amazon)\, Amy Piscopo (WattTime/Climate TRACE)\, Mike Conathan (Upwell Collaborative)\, Rory Dunn (Aperture)\, Mike Pulaski (Solen Works)\, and other experts. \n~100 entrepreneurs\, investors\, corporates\, public sector leaders\, and students will gather in Portland to connect and tackle real challenges facing climate innovators. \nRegister: https://events.humanitix.com/climate-salon-roux-institute
URL:https://www.nexusmaine.com/event/climate-salon-the-roux-institute/
END:VEVENT
END:VCALENDAR