BEGIN:VCALENDAR
VERSION:2.0
PRODID:-//Nexus Maine - ECPv6.15.20//NONSGML v1.0//EN
CALSCALE:GREGORIAN
METHOD:PUBLISH
X-ORIGINAL-URL:https://www.nexusmaine.com
X-WR-CALDESC:Events for Nexus Maine
REFRESH-INTERVAL;VALUE=DURATION:PT1H
X-Robots-Tag:noindex
X-PUBLISHED-TTL:PT1H
BEGIN:VTIMEZONE
TZID:America/New_York
BEGIN:DAYLIGHT
TZOFFSETFROM:-0500
TZOFFSETTO:-0400
TZNAME:EDT
DTSTART:20250309T070000
END:DAYLIGHT
BEGIN:STANDARD
TZOFFSETFROM:-0400
TZOFFSETTO:-0500
TZNAME:EST
DTSTART:20251102T060000
END:STANDARD
BEGIN:DAYLIGHT
TZOFFSETFROM:-0500
TZOFFSETTO:-0400
TZNAME:EDT
DTSTART:20260308T070000
END:DAYLIGHT
BEGIN:STANDARD
TZOFFSETFROM:-0400
TZOFFSETTO:-0500
TZNAME:EST
DTSTART:20261101T060000
END:STANDARD
BEGIN:DAYLIGHT
TZOFFSETFROM:-0500
TZOFFSETTO:-0400
TZNAME:EDT
DTSTART:20270314T070000
END:DAYLIGHT
BEGIN:STANDARD
TZOFFSETFROM:-0400
TZOFFSETTO:-0500
TZNAME:EST
DTSTART:20271107T060000
END:STANDARD
END:VTIMEZONE
BEGIN:VEVENT
DTSTART;VALUE=DATE:20260312
DTEND;VALUE=DATE:20260313
DTSTAMP:20260421T160146
CREATED:20251122T205544Z
LAST-MODIFIED:20251122T205544Z
UID:170000038-1773273600-1773359999@www.nexusmaine.com
SUMMARY:Catalyzing Maine’s Future – Women Who Empower
DESCRIPTION:Presented by Northeastern University’s Roux Institute \nThis signature event celebrates the remarkable women who are shaping Maine’s future through entrepreneurship\, leadership\, and innovation. Part of Northeastern’s global Women Who Empower initiative\, the program spotlights inspiring stories of impact while fostering mentorship and collaboration. Attendees will hear from trailblazing women entrepreneurs and leaders across industries. The event creates a powerful platform for connection\, empowerment\, and advancing gender equity in Maine’s innovation economy. 
URL:https://www.nexusmaine.com/event/catalyzing-maines-future-women-who-empower/
END:VEVENT
END:VCALENDAR