BEGIN:VCALENDAR
VERSION:2.0
PRODID:-//Nexus Maine - ECPv6.15.20//NONSGML v1.0//EN
CALSCALE:GREGORIAN
METHOD:PUBLISH
X-WR-CALNAME:Nexus Maine
X-ORIGINAL-URL:https://www.nexusmaine.com
X-WR-CALDESC:Events for Nexus Maine
REFRESH-INTERVAL;VALUE=DURATION:PT1H
X-Robots-Tag:noindex
X-PUBLISHED-TTL:PT1H
BEGIN:VTIMEZONE
TZID:America/New_York
BEGIN:DAYLIGHT
TZOFFSETFROM:-0500
TZOFFSETTO:-0400
TZNAME:EDT
DTSTART:20240310T070000
END:DAYLIGHT
BEGIN:STANDARD
TZOFFSETFROM:-0400
TZOFFSETTO:-0500
TZNAME:EST
DTSTART:20241103T060000
END:STANDARD
BEGIN:DAYLIGHT
TZOFFSETFROM:-0500
TZOFFSETTO:-0400
TZNAME:EDT
DTSTART:20250309T070000
END:DAYLIGHT
BEGIN:STANDARD
TZOFFSETFROM:-0400
TZOFFSETTO:-0500
TZNAME:EST
DTSTART:20251102T060000
END:STANDARD
BEGIN:DAYLIGHT
TZOFFSETFROM:-0500
TZOFFSETTO:-0400
TZNAME:EDT
DTSTART:20260308T070000
END:DAYLIGHT
BEGIN:STANDARD
TZOFFSETFROM:-0400
TZOFFSETTO:-0500
TZNAME:EST
DTSTART:20261101T060000
END:STANDARD
END:VTIMEZONE
BEGIN:VEVENT
DTSTART;TZID=America/New_York:20251008T073000
DTEND;TZID=America/New_York:20251008T100000
DTSTAMP:20260422T001805
CREATED:20250915T194008Z
LAST-MODIFIED:20250915T194008Z
UID:170000014-1759908600-1759917600@www.nexusmaine.com
SUMMARY:60 Ideas in 60 Minutes Portland 2025
DESCRIPTION:The Mainebiz 60 Ideas in 60 Minutes Forum brings together a panel of six Maine CEOs and leaders to each share 10 ideas that business executives can learn from. Covering everything from how to successfully run and operate a business\, to effective ways to motivate and manage people\, our panelists will discuss and expound on their secrets to success. \nWhether you’re an entrepreneur\, a business leader\, or someone looking for inspiration\, you’ll walk away with 60 actionable ideas that can transform your career and life.
URL:https://www.nexusmaine.com/event/60-ideas-in-60-minutes-portland-2025/
LOCATION:DoubleTree by Hilton Hotel\, 363 Maine Mall Road\, South Portland\, ME\, 04106\, United States
CATEGORIES:Education,Networking
END:VEVENT
BEGIN:VEVENT
DTSTART;TZID=America/New_York:20251008T103000
DTEND;TZID=America/New_York:20251008T180000
DTSTAMP:20260422T001805
CREATED:20250915T194515Z
LAST-MODIFIED:20250915T194515Z
UID:170000016-1759919400-1759946400@www.nexusmaine.com
SUMMARY:BioME Annual Conference 2025
DESCRIPTION:Join us at the BioME Annual Conference 2025 on October 8 at University of Southern Maine in Portland. Learn about the life sciences industry in Maine and network with the biotech and medical device community at our biggest event of the year. The Conference will feature panel sessions\, engaging talks\, presentations\, networking and expo tables.
URL:https://www.nexusmaine.com/event/biome-annual-conference-2025/
LOCATION:University of Southern Maine\, 88 Bedford St\, Portland\, 04101\, United States
CATEGORIES:Education,Networking,Tech
END:VEVENT
END:VCALENDAR