BEGIN:VCALENDAR
VERSION:2.0
PRODID:-//Nexus Maine - ECPv6.15.20//NONSGML v1.0//EN
CALSCALE:GREGORIAN
METHOD:PUBLISH
X-ORIGINAL-URL:https://www.nexusmaine.com
X-WR-CALDESC:Events for Nexus Maine
REFRESH-INTERVAL;VALUE=DURATION:PT1H
X-Robots-Tag:noindex
X-PUBLISHED-TTL:PT1H
BEGIN:VTIMEZONE
TZID:America/New_York
BEGIN:DAYLIGHT
TZOFFSETFROM:-0500
TZOFFSETTO:-0400
TZNAME:EDT
DTSTART:20250309T070000
END:DAYLIGHT
BEGIN:STANDARD
TZOFFSETFROM:-0400
TZOFFSETTO:-0500
TZNAME:EST
DTSTART:20251102T060000
END:STANDARD
BEGIN:DAYLIGHT
TZOFFSETFROM:-0500
TZOFFSETTO:-0400
TZNAME:EDT
DTSTART:20260308T070000
END:DAYLIGHT
BEGIN:STANDARD
TZOFFSETFROM:-0400
TZOFFSETTO:-0500
TZNAME:EST
DTSTART:20261101T060000
END:STANDARD
BEGIN:DAYLIGHT
TZOFFSETFROM:-0500
TZOFFSETTO:-0400
TZNAME:EDT
DTSTART:20270314T070000
END:DAYLIGHT
BEGIN:STANDARD
TZOFFSETFROM:-0400
TZOFFSETTO:-0500
TZNAME:EST
DTSTART:20271107T060000
END:STANDARD
END:VTIMEZONE
BEGIN:VEVENT
DTSTART;TZID=America/New_York:20260211T170000
DTEND;TZID=America/New_York:20260211T190000
DTSTAMP:20260422T060846
CREATED:20260119T113734Z
LAST-MODIFIED:20260119T113734Z
UID:170000048-1770829200-1770836400@www.nexusmaine.com
SUMMARY:Showing Up as Yourself: A Real Talk on Leadership and Belonging” hosted by the Roux Institute
DESCRIPTION:Please join us for a fireside chat where Claude Silver and Jana Rich will lead us through a conversation exploring how we can all “Be Ourselves at Work.”\nNo matter our role\, seniority\, or generation\, we all want the same things: to feel valued\, trusted\, respected\, and like we belong. When we stop performing and start being\, we unlock our capacity to connect\, thrive\, and do our best work. Not only is this shift liberating—it’s the antidote to burnout\, an end to the myth of “fitting in\,” and a proven path to building bold\, human-first teams.
URL:https://www.nexusmaine.com/event/showing-up-as-yourself-a-real-talk-on-leadership-and-belonging-hosted-by-the-roux-institute/
CATEGORIES:Education,Networking
END:VEVENT
BEGIN:VEVENT
DTSTART;TZID=America/New_York:20260220T120000
DTEND;TZID=America/New_York:20260220T123000
DTSTAMP:20260422T060846
CREATED:20260127T014111Z
LAST-MODIFIED:20260127T014118Z
UID:170000049-1771588800-1771590600@www.nexusmaine.com
SUMMARY:The Founders Guide to Cap Tables\, Options & Equity - Presented by Carta
DESCRIPTION:This is a virtual event for Nexus Maine members courtesy of our friends at Carta! \nStarting a business is hard\, but the potential upside can change lives if you’re able to achieve a successful exit while maintaining a reasonable amount of ownership in that business. In this session you will learn: (1) the basics of equity and cap table management\, (2) how equity amongst co-founders is typically divided\, (3) how to size an option pool\, and (4) how to properly incentivize advisors and your first 10 hires. \n​We will also have Maine specific startup data presented from Carta’s database. \nPresenter Bio: Ryan O’Conor manages VC and Accelerator partnerships at Carta. Prior to Carta\, Ryan spent 3 years at DoorDash building its white-label delivery business. Before joining DoorDash\, he spent 7+ years working in business development and partnership roles across several early-stage companies. Ryan is a former founder\, startup advisor\, and an active angel investor in early- and growth-stage companies. \n  \nhttps://luma.com/j5trxdia
URL:https://www.nexusmaine.com/event/the-founders-guide-to-cap-tables-options-equity-presented-by-carta/
CATEGORIES:Education,Startup,Tech
END:VEVENT
BEGIN:VEVENT
DTSTART;TZID=America/New_York:20260313T080000
DTEND;TZID=America/New_York:20260313T170000
DTSTAMP:20260422T060846
CREATED:20260313T133756Z
LAST-MODIFIED:20260313T133756Z
UID:170000057-1773388800-1773421200@www.nexusmaine.com
SUMMARY:BSides Maine
DESCRIPTION:BSides Maine is where the state’s hacker community shows what it’s really made of… scrappy\, curious\, hands-on\, and unafraid to dig into the weird corners of technology. It’s a day of talks\, workshops\, hardware hacks\, live demos\, and the hallway discoveries that happen when curious people collide. Built locally\, priced fairly\, and always free for students and job seekers. Open to anyone who cares about how technology intersects with the world around us. \nMay 30th \nhttps://www.bsidesmaine.org/
URL:https://www.nexusmaine.com/event/bsides-maine/
CATEGORIES:Education,Startup,Tech
END:VEVENT
BEGIN:VEVENT
DTSTART;TZID=America/New_York:20260429T073000
DTEND;TZID=America/New_York:20260429T090000
DTSTAMP:20260422T060846
CREATED:20260405T204754Z
LAST-MODIFIED:20260405T204754Z
UID:170000059-1777447800-1777453200@www.nexusmaine.com
SUMMARY:Open Door with Andrew Butcher\, President of Maine Connectivity Authority
DESCRIPTION:Andrew Butcher\, President of Maine Connectivity Authority\, will discuss leadership\, progress\, and vision with Stefanie Manning. \nRegister Here
URL:https://www.nexusmaine.com/event/open-door-with-andrew-butcher-president-of-maine-connectivity-authority/
LOCATION:The Roux Institute at Northeastern University\, Portland\, ME
CATEGORIES:Education
END:VEVENT
BEGIN:VEVENT
DTSTART;VALUE=DATE:20260518
DTEND;VALUE=DATE:20260522
DTSTAMP:20260422T060846
CREATED:20260114T011940Z
LAST-MODIFIED:20260114T011940Z
UID:170000046-1779062400-1779407999@www.nexusmaine.com
SUMMARY:Startup Maine Week
DESCRIPTION:Startup Maine Week is back May 18-21\, 2026! \nJoin us for four days of immersive learning\, new connections\, and collaboration across Maine’s startup ecosystem. Each year\, the conference brings together startup founders\, startup employees\, investors\, ecosystem partners\, and the startup-curious to share insights\, build relationships\, and support growth across the state. \nRegistration for Startup Maine Week will open soon. Stay tuned to hear when early-bird tickets go live!
URL:https://www.nexusmaine.com/event/startup-maine-week/
CATEGORIES:Education,Networking,Startup,Tech
END:VEVENT
END:VCALENDAR