BEGIN:VCALENDAR
VERSION:2.0
PRODID:-//Nexus Maine - ECPv6.15.20//NONSGML v1.0//EN
CALSCALE:GREGORIAN
METHOD:PUBLISH
X-ORIGINAL-URL:https://www.nexusmaine.com
X-WR-CALDESC:Events for Nexus Maine
REFRESH-INTERVAL;VALUE=DURATION:PT1H
X-Robots-Tag:noindex
X-PUBLISHED-TTL:PT1H
BEGIN:VTIMEZONE
TZID:America/New_York
BEGIN:DAYLIGHT
TZOFFSETFROM:-0500
TZOFFSETTO:-0400
TZNAME:EDT
DTSTART:20250309T070000
END:DAYLIGHT
BEGIN:STANDARD
TZOFFSETFROM:-0400
TZOFFSETTO:-0500
TZNAME:EST
DTSTART:20251102T060000
END:STANDARD
BEGIN:DAYLIGHT
TZOFFSETFROM:-0500
TZOFFSETTO:-0400
TZNAME:EDT
DTSTART:20260308T070000
END:DAYLIGHT
BEGIN:STANDARD
TZOFFSETFROM:-0400
TZOFFSETTO:-0500
TZNAME:EST
DTSTART:20261101T060000
END:STANDARD
BEGIN:DAYLIGHT
TZOFFSETFROM:-0500
TZOFFSETTO:-0400
TZNAME:EDT
DTSTART:20270314T070000
END:DAYLIGHT
BEGIN:STANDARD
TZOFFSETFROM:-0400
TZOFFSETTO:-0500
TZNAME:EST
DTSTART:20271107T060000
END:STANDARD
END:VTIMEZONE
BEGIN:VEVENT
DTSTART;TZID=America/New_York:20260211T170000
DTEND;TZID=America/New_York:20260211T190000
DTSTAMP:20260421T185816
CREATED:20260119T113734Z
LAST-MODIFIED:20260119T113734Z
UID:170000048-1770829200-1770836400@www.nexusmaine.com
SUMMARY:Showing Up as Yourself: A Real Talk on Leadership and Belonging” hosted by the Roux Institute
DESCRIPTION:Please join us for a fireside chat where Claude Silver and Jana Rich will lead us through a conversation exploring how we can all “Be Ourselves at Work.”\nNo matter our role\, seniority\, or generation\, we all want the same things: to feel valued\, trusted\, respected\, and like we belong. When we stop performing and start being\, we unlock our capacity to connect\, thrive\, and do our best work. Not only is this shift liberating—it’s the antidote to burnout\, an end to the myth of “fitting in\,” and a proven path to building bold\, human-first teams.
URL:https://www.nexusmaine.com/event/showing-up-as-yourself-a-real-talk-on-leadership-and-belonging-hosted-by-the-roux-institute/
CATEGORIES:Education,Networking
END:VEVENT
BEGIN:VEVENT
DTSTART;TZID=America/New_York:20260225T170000
DTEND;TZID=America/New_York:20260225T193000
DTSTAMP:20260421T185816
CREATED:20260130T174106Z
LAST-MODIFIED:20260212T210623Z
UID:170000050-1772038800-1772047800@www.nexusmaine.com
SUMMARY:Blockchain Maine Meetup- Policy Edition
DESCRIPTION:Join us for a special policy-focused meetup exploring how Maine can lead in blockchain innovation and digital asset policy. \n​We will be hosting an informal happy hour at Oxbow Brewing! \nSpecial Guest: Owen McCarthy\, a local entrepreneur running to be Maine’s next governor. \n  \n 
URL:https://www.nexusmaine.com/event/blockchain-maine-policy-edition-meetup/
CATEGORIES:Networking,Tech
END:VEVENT
BEGIN:VEVENT
DTSTART;TZID=America/New_York:20260226T173000
DTEND;TZID=America/New_York:20260226T193000
DTSTAMP:20260421T185816
CREATED:20260106T164119Z
LAST-MODIFIED:20260106T164126Z
UID:170000044-1772127000-1772134200@www.nexusmaine.com
SUMMARY:Nexus Maine 2026 Kickoff Happy Hour @ Orange Bike
DESCRIPTION:Welcome to 2026! Join us as we celebrate the founders\, builders\, business owners\, and operators of Maine’s entrepreneurial ecosystem. \n​We’ve rented the production space at Orange Bike Brewing for an unstructured happy hour… oh\, and your first drink is on us! \n​Thank you to our generous sponsors Baker Newman Noyes (BNN) and Orrick for their support. \n  \nhttps://luma.com/wdp407x7
URL:https://www.nexusmaine.com/event/nexus-maine-2026-kickoff-happy-hour-orange-bike/
CATEGORIES:Networking,Startup,Tech
END:VEVENT
END:VCALENDAR