BEGIN:VCALENDAR
VERSION:2.0
PRODID:-//Nexus Maine - ECPv6.15.20//NONSGML v1.0//EN
CALSCALE:GREGORIAN
METHOD:PUBLISH
X-WR-CALNAME:Nexus Maine
X-ORIGINAL-URL:https://www.nexusmaine.com
X-WR-CALDESC:Events for Nexus Maine
REFRESH-INTERVAL;VALUE=DURATION:PT1H
X-Robots-Tag:noindex
X-PUBLISHED-TTL:PT1H
BEGIN:VTIMEZONE
TZID:America/New_York
BEGIN:DAYLIGHT
TZOFFSETFROM:-0500
TZOFFSETTO:-0400
TZNAME:EDT
DTSTART:20250309T070000
END:DAYLIGHT
BEGIN:STANDARD
TZOFFSETFROM:-0400
TZOFFSETTO:-0500
TZNAME:EST
DTSTART:20251102T060000
END:STANDARD
BEGIN:DAYLIGHT
TZOFFSETFROM:-0500
TZOFFSETTO:-0400
TZNAME:EDT
DTSTART:20260308T070000
END:DAYLIGHT
BEGIN:STANDARD
TZOFFSETFROM:-0400
TZOFFSETTO:-0500
TZNAME:EST
DTSTART:20261101T060000
END:STANDARD
BEGIN:DAYLIGHT
TZOFFSETFROM:-0500
TZOFFSETTO:-0400
TZNAME:EDT
DTSTART:20270314T070000
END:DAYLIGHT
BEGIN:STANDARD
TZOFFSETFROM:-0400
TZOFFSETTO:-0500
TZNAME:EST
DTSTART:20271107T060000
END:STANDARD
END:VTIMEZONE
BEGIN:VEVENT
DTSTART;TZID=America/New_York:20260225T170000
DTEND;TZID=America/New_York:20260225T193000
DTSTAMP:20260421T185847
CREATED:20260130T174106Z
LAST-MODIFIED:20260212T210623Z
UID:170000050-1772038800-1772047800@www.nexusmaine.com
SUMMARY:Blockchain Maine Meetup- Policy Edition
DESCRIPTION:Join us for a special policy-focused meetup exploring how Maine can lead in blockchain innovation and digital asset policy. \n​We will be hosting an informal happy hour at Oxbow Brewing! \nSpecial Guest: Owen McCarthy\, a local entrepreneur running to be Maine’s next governor. \n  \n 
URL:https://www.nexusmaine.com/event/blockchain-maine-policy-edition-meetup/
CATEGORIES:Networking,Tech
END:VEVENT
END:VCALENDAR