BEGIN:VCALENDAR
VERSION:2.0
PRODID:-//Nexus Maine - ECPv6.15.20//NONSGML v1.0//EN
CALSCALE:GREGORIAN
METHOD:PUBLISH
X-WR-CALNAME:Nexus Maine
X-ORIGINAL-URL:https://www.nexusmaine.com
X-WR-CALDESC:Events for Nexus Maine
REFRESH-INTERVAL;VALUE=DURATION:PT1H
X-Robots-Tag:noindex
X-PUBLISHED-TTL:PT1H
BEGIN:VTIMEZONE
TZID:America/New_York
BEGIN:DAYLIGHT
TZOFFSETFROM:-0500
TZOFFSETTO:-0400
TZNAME:EDT
DTSTART:20240310T070000
END:DAYLIGHT
BEGIN:STANDARD
TZOFFSETFROM:-0400
TZOFFSETTO:-0500
TZNAME:EST
DTSTART:20241103T060000
END:STANDARD
BEGIN:DAYLIGHT
TZOFFSETFROM:-0500
TZOFFSETTO:-0400
TZNAME:EDT
DTSTART:20250309T070000
END:DAYLIGHT
BEGIN:STANDARD
TZOFFSETFROM:-0400
TZOFFSETTO:-0500
TZNAME:EST
DTSTART:20251102T060000
END:STANDARD
BEGIN:DAYLIGHT
TZOFFSETFROM:-0500
TZOFFSETTO:-0400
TZNAME:EDT
DTSTART:20260308T070000
END:DAYLIGHT
BEGIN:STANDARD
TZOFFSETFROM:-0400
TZOFFSETTO:-0500
TZNAME:EST
DTSTART:20261101T060000
END:STANDARD
END:VTIMEZONE
BEGIN:VEVENT
DTSTART;TZID=America/New_York:20251008T190000
DTEND;TZID=America/New_York:20251008T210000
DTSTAMP:20260421T171933
CREATED:20250915T194242Z
LAST-MODIFIED:20250915T194242Z
UID:170000015-1759950000-1759957200@www.nexusmaine.com
SUMMARY:Maine Data & AI Social Meetup
DESCRIPTION:Get together socially to talk data\, AI and other things over a drink! \nCheck in at front desk for location when you arrive – we are usually in the table area by the front windows. \nBackup location downstairs in the room with bubble hockey!
URL:https://www.nexusmaine.com/event/maine-data-ai-social-meetup/
LOCATION:Arcadia\, 504 Congress\, Portland\, 04101\, United States
CATEGORIES:Networking,Tech
END:VEVENT
BEGIN:VEVENT
DTSTART;TZID=America/New_York:20251008T103000
DTEND;TZID=America/New_York:20251008T180000
DTSTAMP:20260421T171933
CREATED:20250915T194515Z
LAST-MODIFIED:20250915T194515Z
UID:170000016-1759919400-1759946400@www.nexusmaine.com
SUMMARY:BioME Annual Conference 2025
DESCRIPTION:Join us at the BioME Annual Conference 2025 on October 8 at University of Southern Maine in Portland. Learn about the life sciences industry in Maine and network with the biotech and medical device community at our biggest event of the year. The Conference will feature panel sessions\, engaging talks\, presentations\, networking and expo tables.
URL:https://www.nexusmaine.com/event/biome-annual-conference-2025/
LOCATION:University of Southern Maine\, 88 Bedford St\, Portland\, 04101\, United States
CATEGORIES:Education,Networking,Tech
END:VEVENT
BEGIN:VEVENT
DTSTART;TZID=America/New_York:20250814T150000
DTEND;TZID=America/New_York:20250814T180000
DTSTAMP:20260421T171933
CREATED:20250731T182145Z
LAST-MODIFIED:20250731T182227Z
UID:170000008-1755183600-1755194400@www.nexusmaine.com
SUMMARY:Grantx Celebration of Maine Launch Event
DESCRIPTION:Join us for the Grantx Celebration of Maine Launch Event.This free public event will spotlight the bold ideas\, local leaders\, and cutting-edge technology shaping Maine’s innovation ecosystem on the official launch day of Portland startup\, Grantx.
URL:https://www.nexusmaine.com/event/grantx-celebration-of-maine-launch-event/
LOCATION:McGoldrick Center for Career & Student Success\, 35 Bedford St\, Portland\, ME\, 04101\, United States
CATEGORIES:Tech
ATTACH;FMTTYPE=image/avif:https://www.nexusmaine.com/wp-content/uploads/2025/07/grantx-launch.avif
END:VEVENT
BEGIN:VEVENT
DTSTART;TZID=America/New_York:20250813T080000
DTEND;TZID=America/New_York:20250813T120000
DTSTAMP:20260421T171933
CREATED:20250731T181800Z
LAST-MODIFIED:20250731T181847Z
UID:170000007-1755072000-1755086400@www.nexusmaine.com
SUMMARY:Portland Hubspot User Group
DESCRIPTION:Join us for our first unofficial HubSpot User Group (HUG) meetup in Portland\, Maine. This relaxed and interactive event is perfect for local marketers\, sales professionals\, RevOps experts\, and HubSpot fans.
URL:https://www.nexusmaine.com/event/portland-hubspot-user-group/
LOCATION:Page One Web Solutions\, 250 Commercial Street Floor 2\, Portland\, ME\, United States
CATEGORIES:Education,Tech
END:VEVENT
BEGIN:VEVENT
DTSTART;TZID=America/New_York:20250807T163000
DTEND;TZID=America/New_York:20250807T183000
DTSTAMP:20260421T171933
CREATED:20250731T180855Z
LAST-MODIFIED:20250731T180956Z
UID:170000005-1754584200-1754591400@www.nexusmaine.com
SUMMARY:Maine EdTech meetup
DESCRIPTION:Let’s connect! From K–12 platforms to higher ed tools\, Maine is home to some incredible ed-tech innovation\, and it’s time we got to know each other better! Whether you’re building\, scaling\, or supporting a business in the education technology space\, come meet fellow founders and workers who share your mission. \nDate: Wednesday\, August 7\nTime: 4:30 to 6:30 PM\nLocation: To be determined (Portland)\nWho: Anyone working in or building Maine-based K–12 or higher education technology companies \nWe’ll mingle\, share ideas\, and build connections before the back-to-school rush kicks into full gear. Hope to see you there!
URL:https://www.nexusmaine.com/event/maine-edtech-meetup/
LOCATION:Portland (TBD)\, Portland\, ME\, United States
CATEGORIES:Networking,Tech
END:VEVENT
END:VCALENDAR