BEGIN:VCALENDAR
VERSION:2.0
PRODID:-//Nexus Maine - ECPv6.15.20//NONSGML v1.0//EN
CALSCALE:GREGORIAN
METHOD:PUBLISH
X-WR-CALNAME:Nexus Maine
X-ORIGINAL-URL:https://www.nexusmaine.com
X-WR-CALDESC:Events for Nexus Maine
REFRESH-INTERVAL;VALUE=DURATION:PT1H
X-Robots-Tag:noindex
X-PUBLISHED-TTL:PT1H
BEGIN:VTIMEZONE
TZID:America/New_York
BEGIN:DAYLIGHT
TZOFFSETFROM:-0500
TZOFFSETTO:-0400
TZNAME:EDT
DTSTART:20250309T070000
END:DAYLIGHT
BEGIN:STANDARD
TZOFFSETFROM:-0400
TZOFFSETTO:-0500
TZNAME:EST
DTSTART:20251102T060000
END:STANDARD
BEGIN:DAYLIGHT
TZOFFSETFROM:-0500
TZOFFSETTO:-0400
TZNAME:EDT
DTSTART:20260308T070000
END:DAYLIGHT
BEGIN:STANDARD
TZOFFSETFROM:-0400
TZOFFSETTO:-0500
TZNAME:EST
DTSTART:20261101T060000
END:STANDARD
BEGIN:DAYLIGHT
TZOFFSETFROM:-0500
TZOFFSETTO:-0400
TZNAME:EDT
DTSTART:20270314T070000
END:DAYLIGHT
BEGIN:STANDARD
TZOFFSETFROM:-0400
TZOFFSETTO:-0500
TZNAME:EST
DTSTART:20271107T060000
END:STANDARD
END:VTIMEZONE
BEGIN:VEVENT
DTSTART;TZID=America/New_York:20260410T090000
DTEND;TZID=America/New_York:20260410T090000
DTSTAMP:20260421T160309
CREATED:20260406T004731Z
LAST-MODIFIED:20260406T004731Z
UID:170000063-1775811600-1775811600@www.nexusmaine.com
SUMMARY:Upper Midcoast Nexus Coffee
DESCRIPTION:We’ll try to snag the big table in the front. Hope to see you there!
URL:https://www.nexusmaine.com/event/upper-midcoast-nexus-coffee/
LOCATION:Villager Cafe in Camden
END:VEVENT
BEGIN:VEVENT
DTSTART;TZID=America/New_York:20260410T090000
DTEND;TZID=America/New_York:20260410T090000
DTSTAMP:20260421T160309
CREATED:20260407T012056Z
LAST-MODIFIED:20260407T012056Z
UID:170000066-1775811600-1775811600@www.nexusmaine.com
SUMMARY:Upper Midcoast Nexus Coffee
DESCRIPTION:Nexus Coffee gathering at Villager Cafe in Camden. We’ll try to snag the big table in the front.
URL:https://www.nexusmaine.com/event/upper-midcoast-nexus-coffee-2/
LOCATION:Villager Cafe in Camden
END:VEVENT
BEGIN:VEVENT
DTSTART;TZID=America/New_York:20260413T000000
DTEND;TZID=America/New_York:20260415T000000
DTSTAMP:20260421T160309
CREATED:20251127T095225Z
LAST-MODIFIED:20251217T195828Z
UID:170000040-1776038400-1776211200@www.nexusmaine.com
SUMMARY:International Conference on Public Health and Health Care System
DESCRIPTION:PAGES conferences are excited to invite you to the upcoming International Conference on Public Health and Health Care System\, scheduled to take place from April 13-15\, 2026 in the city of finance Paris\, France. \nThis event will bring together leading experts for keynote addresses\, dynamic panel discussions\, and engaging workshops that aim to poster collaboration and inspire innovative ideas. Topics will span a range of critical areas\, including disease prevention\, health promotion\, epidemiology\, environmental health\, and global health policy. \nOverall\, the International Conference on Public Health and Health Care Research and Development promises to be an important forum for advancing our understanding of Public Health and Health Care and exploring innovative solutions to global health challenges. \nWe eagerly anticipate your participation in this exciting and inspiring event in Paris\, France. \nSincerely\,\nJyothsna P | Conference Secretary\nPublic Health-2026
URL:https://www.nexusmaine.com/event/international-conference-on-public-health-and-health-care-system/
END:VEVENT
BEGIN:VEVENT
DTSTART;TZID=America/New_York:20260414T000000
DTEND;TZID=America/New_York:20260414T000000
DTSTAMP:20260421T160309
CREATED:20260406T004729Z
LAST-MODIFIED:20260406T004729Z
UID:170000060-1776124800-1776124800@www.nexusmaine.com
SUMMARY:Maine JS Meetup
DESCRIPTION:If you’re learning or practicing JavaScript and/or web\, come out and talk tech with us! \nRegister Here
URL:https://www.nexusmaine.com/event/maine-js-meetup/
LOCATION:Novare Res
END:VEVENT
BEGIN:VEVENT
DTSTART;TZID=America/New_York:20260415T170000
DTEND;TZID=America/New_York:20260415T200000
DTSTAMP:20260421T160309
CREATED:20260314T134826Z
LAST-MODIFIED:20260314T134826Z
UID:170000058-1776272400-1776283200@www.nexusmaine.com
SUMMARY:Nexus DNNR Club
DESCRIPTION:The DNNR Club is something new we are experimenting with. It’s a curated dinner party but with a twist. After you sign up and answer a questionnaire we will curate a match of 6 people for a dinner party. Restaurant reservations will be booked at separate venues across Portland and after dinner everyone is invited to join at the same venue for drinks/mingling. \nRegister here 
URL:https://www.nexusmaine.com/event/nexus-dnnr-club/
CATEGORIES:Networking,Startup,Tech
END:VEVENT
BEGIN:VEVENT
DTSTART;TZID=America/New_York:20260428T000000
DTEND;TZID=America/New_York:20260428T000000
DTSTAMP:20260421T160309
CREATED:20260407T012055Z
LAST-MODIFIED:20260407T012055Z
UID:170000065-1777334400-1777334400@www.nexusmaine.com
SUMMARY:Architalx Lecture Series: Timothy Mansfield | CambridgeSeven
DESCRIPTION:Architalx is back for its 39th season\, bringing global voices in architecture and design to Maine. This lecture features Timothy Mansfield from CambridgeSeven. \nRegister Here
URL:https://www.nexusmaine.com/event/architalx-lecture-series-timothy-mansfield-cambridgeseven/
END:VEVENT
BEGIN:VEVENT
DTSTART;TZID=America/New_York:20260429T073000
DTEND;TZID=America/New_York:20260429T090000
DTSTAMP:20260421T160309
CREATED:20260405T204754Z
LAST-MODIFIED:20260405T204754Z
UID:170000059-1777447800-1777453200@www.nexusmaine.com
SUMMARY:Open Door with Andrew Butcher\, President of Maine Connectivity Authority
DESCRIPTION:Andrew Butcher\, President of Maine Connectivity Authority\, will discuss leadership\, progress\, and vision with Stefanie Manning. \nRegister Here
URL:https://www.nexusmaine.com/event/open-door-with-andrew-butcher-president-of-maine-connectivity-authority/
LOCATION:The Roux Institute at Northeastern University\, Portland\, ME
CATEGORIES:Education
END:VEVENT
BEGIN:VEVENT
DTSTART;TZID=America/New_York:20260429T080000
DTEND;TZID=America/New_York:20260429T090000
DTSTAMP:20260421T160309
CREATED:20260414T111730Z
LAST-MODIFIED:20260421T192759Z
UID:170000068-1777449600-1777453200@www.nexusmaine.com
SUMMARY:Portland Coffee Meetup
DESCRIPTION:Coffee meetup at CBD in Portland. 8-9am. Register here! https://luma.com/qqzpe7n1
URL:https://www.nexusmaine.com/event/portland-coffee-meetup/
END:VEVENT
BEGIN:VEVENT
DTSTART;TZID=America/New_York:20260430T000000
DTEND;TZID=America/New_York:20260430T000000
DTSTAMP:20260421T160309
CREATED:20260406T130444Z
LAST-MODIFIED:20260410T214203Z
UID:170000067-1777507200-1777507200@www.nexusmaine.com
SUMMARY:MaineR User Group - What does it mean for an LLM to think?
DESCRIPTION:We’re meeting up at Novare Res again after work (5:30PM) as we slowly start to build up the base and regularity of the group. \nIn March\, we thought it’d be nice to have a central topic to discuss and settled on the idea of “thinking” and large language models (LLMs\, e.g. Claude\, Gemini). \n(…among the casual networking\, talking about Claude + Positron integrations\, complaining in a safe space about impossible data requests) \nMid-April\, we will send out a few papers/blogs via the newsletter (yet to be created\, but will be created mid-April)\, so if you’re interested in attending\, the reading and details will be sent out there. \nReading is NOT required to attend\, but does give attendees a common topic to bond\, chat\, ask questions\, pontificate about. \nThe group ranges from people who have never used R once to those who depend on it to regularly publish peer reviewed research. \nPlease RSVP on the Meet Up so we have an idea of how big of a table to snag. \nWe’ll also announce that we’ve got our first guest speaker booked in for later this year! \nhttps://www.meetup.com/maine-r-users-group/events/313982347/ \nLook for the group with the letter R on the table!
URL:https://www.nexusmaine.com/event/mainer-user-group-what-does-it-mean-for-an-llm-to-think/
END:VEVENT
BEGIN:VEVENT
DTSTART;TZID=America/New_York:20260512T000000
DTEND;TZID=America/New_York:20260512T000000
DTSTAMP:20260421T160309
CREATED:20260305T141205Z
LAST-MODIFIED:20260313T132650Z
UID:170000056-1778544000-1778544000@www.nexusmaine.com
SUMMARY:Maine Entrepreneurs Summit
DESCRIPTION:Join us for a full day of inspiration\, connection\, and actionable insight designed for Maine’s innovators\, founders\, and changemakers. \nAGENDA \n1:15 PM Registration Opens \n1:30 PM High Impact Workshops \nWorkshop I: Growth Through Acquisition: Buying or Selling a Small Business \nWorkshop II: From Chaos to Clarity: Time Management Strategies That Scale with You \n3:00 PM Maine Entrepreneurs Summit Opening & Keynote Address \nMaine Economic & Business Outlook – Amanda Rector\, State of Maine Economist \n3:45 PM Trade Show & Networking Reception \nFeaturing products and services from Top Gun companies\, industry funders\, and sponsors. This\nNetworking Reception provides opportunities for attendees to connect\, discuss ideas\, and build\nvaluable relationships. \n5:30 PM Opening Remarks & Top Gun Showcase Pitch Competition \nTop Gun finalists pitch their innovative ideas\, products\, or services to a panel of expert judges. \n7:55 PM Top Gun Pitch Award Winner Announcement \n8:00 PM Close of Event \nRegistration Required: https://www.mced.biz/events/mes2026
URL:https://www.nexusmaine.com/event/maine-entrepreneurs-summit/
END:VEVENT
BEGIN:VEVENT
DTSTART;TZID=America/New_York:20260512T000000
DTEND;TZID=America/New_York:20260512T000000
DTSTAMP:20260421T160309
CREATED:20260406T004730Z
LAST-MODIFIED:20260406T004730Z
UID:170000062-1778544000-1778544000@www.nexusmaine.com
SUMMARY:Headshot Happy Hour
DESCRIPTION:Register Here
URL:https://www.nexusmaine.com/event/headshot-happy-hour-3/
END:VEVENT
BEGIN:VEVENT
DTSTART;VALUE=DATE:20260518
DTEND;VALUE=DATE:20260522
DTSTAMP:20260421T160309
CREATED:20260114T011940Z
LAST-MODIFIED:20260114T011940Z
UID:170000046-1779062400-1779407999@www.nexusmaine.com
SUMMARY:Startup Maine Week
DESCRIPTION:Startup Maine Week is back May 18-21\, 2026! \nJoin us for four days of immersive learning\, new connections\, and collaboration across Maine’s startup ecosystem. Each year\, the conference brings together startup founders\, startup employees\, investors\, ecosystem partners\, and the startup-curious to share insights\, build relationships\, and support growth across the state. \nRegistration for Startup Maine Week will open soon. Stay tuned to hear when early-bird tickets go live!
URL:https://www.nexusmaine.com/event/startup-maine-week/
CATEGORIES:Education,Networking,Startup,Tech
END:VEVENT
END:VCALENDAR