BEGIN:VCALENDAR
VERSION:2.0
PRODID:-//Nexus Maine - ECPv6.15.20//NONSGML v1.0//EN
CALSCALE:GREGORIAN
METHOD:PUBLISH
X-ORIGINAL-URL:https://www.nexusmaine.com
X-WR-CALDESC:Events for Nexus Maine
REFRESH-INTERVAL;VALUE=DURATION:PT1H
X-Robots-Tag:noindex
X-PUBLISHED-TTL:PT1H
BEGIN:VTIMEZONE
TZID:America/New_York
BEGIN:DAYLIGHT
TZOFFSETFROM:-0500
TZOFFSETTO:-0400
TZNAME:EDT
DTSTART:20250309T070000
END:DAYLIGHT
BEGIN:STANDARD
TZOFFSETFROM:-0400
TZOFFSETTO:-0500
TZNAME:EST
DTSTART:20251102T060000
END:STANDARD
BEGIN:DAYLIGHT
TZOFFSETFROM:-0500
TZOFFSETTO:-0400
TZNAME:EDT
DTSTART:20260308T070000
END:DAYLIGHT
BEGIN:STANDARD
TZOFFSETFROM:-0400
TZOFFSETTO:-0500
TZNAME:EST
DTSTART:20261101T060000
END:STANDARD
BEGIN:DAYLIGHT
TZOFFSETFROM:-0500
TZOFFSETTO:-0400
TZNAME:EDT
DTSTART:20270314T070000
END:DAYLIGHT
BEGIN:STANDARD
TZOFFSETFROM:-0400
TZOFFSETTO:-0500
TZNAME:EST
DTSTART:20271107T060000
END:STANDARD
END:VTIMEZONE
BEGIN:VEVENT
DTSTART;TZID=America/New_York:20260512T000000
DTEND;TZID=America/New_York:20260512T000000
DTSTAMP:20260421T205316
CREATED:20260305T141205Z
LAST-MODIFIED:20260313T132650Z
UID:170000056-1778544000-1778544000@www.nexusmaine.com
SUMMARY:Maine Entrepreneurs Summit
DESCRIPTION:Join us for a full day of inspiration\, connection\, and actionable insight designed for Maine’s innovators\, founders\, and changemakers. \nAGENDA \n1:15 PM Registration Opens \n1:30 PM High Impact Workshops \nWorkshop I: Growth Through Acquisition: Buying or Selling a Small Business \nWorkshop II: From Chaos to Clarity: Time Management Strategies That Scale with You \n3:00 PM Maine Entrepreneurs Summit Opening & Keynote Address \nMaine Economic & Business Outlook – Amanda Rector\, State of Maine Economist \n3:45 PM Trade Show & Networking Reception \nFeaturing products and services from Top Gun companies\, industry funders\, and sponsors. This\nNetworking Reception provides opportunities for attendees to connect\, discuss ideas\, and build\nvaluable relationships. \n5:30 PM Opening Remarks & Top Gun Showcase Pitch Competition \nTop Gun finalists pitch their innovative ideas\, products\, or services to a panel of expert judges. \n7:55 PM Top Gun Pitch Award Winner Announcement \n8:00 PM Close of Event \nRegistration Required: https://www.mced.biz/events/mes2026
URL:https://www.nexusmaine.com/event/maine-entrepreneurs-summit/
END:VEVENT
BEGIN:VEVENT
DTSTART;TZID=America/New_York:20260512T000000
DTEND;TZID=America/New_York:20260512T000000
DTSTAMP:20260421T205316
CREATED:20260406T004730Z
LAST-MODIFIED:20260406T004730Z
UID:170000062-1778544000-1778544000@www.nexusmaine.com
SUMMARY:Headshot Happy Hour
DESCRIPTION:Register Here
URL:https://www.nexusmaine.com/event/headshot-happy-hour-3/
END:VEVENT
BEGIN:VEVENT
DTSTART;VALUE=DATE:20260518
DTEND;VALUE=DATE:20260522
DTSTAMP:20260421T205316
CREATED:20260114T011940Z
LAST-MODIFIED:20260114T011940Z
UID:170000046-1779062400-1779407999@www.nexusmaine.com
SUMMARY:Startup Maine Week
DESCRIPTION:Startup Maine Week is back May 18-21\, 2026! \nJoin us for four days of immersive learning\, new connections\, and collaboration across Maine’s startup ecosystem. Each year\, the conference brings together startup founders\, startup employees\, investors\, ecosystem partners\, and the startup-curious to share insights\, build relationships\, and support growth across the state. \nRegistration for Startup Maine Week will open soon. Stay tuned to hear when early-bird tickets go live!
URL:https://www.nexusmaine.com/event/startup-maine-week/
CATEGORIES:Education,Networking,Startup,Tech
END:VEVENT
END:VCALENDAR