BEGIN:VCALENDAR
VERSION:2.0
PRODID:-//Nexus Maine - ECPv6.15.20//NONSGML v1.0//EN
CALSCALE:GREGORIAN
METHOD:PUBLISH
X-WR-CALNAME:Nexus Maine
X-ORIGINAL-URL:https://www.nexusmaine.com
X-WR-CALDESC:Events for Nexus Maine
REFRESH-INTERVAL;VALUE=DURATION:PT1H
X-Robots-Tag:noindex
X-PUBLISHED-TTL:PT1H
BEGIN:VTIMEZONE
TZID:America/New_York
BEGIN:DAYLIGHT
TZOFFSETFROM:-0500
TZOFFSETTO:-0400
TZNAME:EDT
DTSTART:20240310T070000
END:DAYLIGHT
BEGIN:STANDARD
TZOFFSETFROM:-0400
TZOFFSETTO:-0500
TZNAME:EST
DTSTART:20241103T060000
END:STANDARD
BEGIN:DAYLIGHT
TZOFFSETFROM:-0500
TZOFFSETTO:-0400
TZNAME:EDT
DTSTART:20250309T070000
END:DAYLIGHT
BEGIN:STANDARD
TZOFFSETFROM:-0400
TZOFFSETTO:-0500
TZNAME:EST
DTSTART:20251102T060000
END:STANDARD
BEGIN:DAYLIGHT
TZOFFSETFROM:-0500
TZOFFSETTO:-0400
TZNAME:EDT
DTSTART:20260308T070000
END:DAYLIGHT
BEGIN:STANDARD
TZOFFSETFROM:-0400
TZOFFSETTO:-0500
TZNAME:EST
DTSTART:20261101T060000
END:STANDARD
END:VTIMEZONE
BEGIN:VEVENT
DTSTART;TZID=America/New_York:20251001T180000
DTEND;TZID=America/New_York:20251001T203000
DTSTAMP:20260423T073006
CREATED:20250915T193742Z
LAST-MODIFIED:20250915T193742Z
UID:170000013-1759341600-1759350600@www.nexusmaine.com
SUMMARY:Allied Whale Benefit
DESCRIPTION:Join us for an unforgettable evening of food\, music\, and conservation\, and experience the unveiling of a fully-articulated 53-foot fin whale skeleton\, installed in the tasting room at Maine Beer Company by College of the Atlantic alum Dan DenDanto ’91. This installation is a first-of-its-kind—approved by NOAA in recognition of Maine Beer Company’s deep commitment to education and conservation. Together\, we’ll celebrate this historic installation\, and make a difference for marine conservation. Don’t miss this special event.
URL:https://www.nexusmaine.com/event/allied-whale-benefit/
LOCATION:Maine Beer Company\, 525 U.S. Rte 1\, Freeport\, ME\, 04032\, United States
END:VEVENT
BEGIN:VEVENT
DTSTART;TZID=America/New_York:20251008T073000
DTEND;TZID=America/New_York:20251008T100000
DTSTAMP:20260423T073006
CREATED:20250915T194008Z
LAST-MODIFIED:20250915T194008Z
UID:170000014-1759908600-1759917600@www.nexusmaine.com
SUMMARY:60 Ideas in 60 Minutes Portland 2025
DESCRIPTION:The Mainebiz 60 Ideas in 60 Minutes Forum brings together a panel of six Maine CEOs and leaders to each share 10 ideas that business executives can learn from. Covering everything from how to successfully run and operate a business\, to effective ways to motivate and manage people\, our panelists will discuss and expound on their secrets to success. \nWhether you’re an entrepreneur\, a business leader\, or someone looking for inspiration\, you’ll walk away with 60 actionable ideas that can transform your career and life.
URL:https://www.nexusmaine.com/event/60-ideas-in-60-minutes-portland-2025/
LOCATION:DoubleTree by Hilton Hotel\, 363 Maine Mall Road\, South Portland\, ME\, 04106\, United States
CATEGORIES:Education,Networking
END:VEVENT
BEGIN:VEVENT
DTSTART;TZID=America/New_York:20251008T103000
DTEND;TZID=America/New_York:20251008T180000
DTSTAMP:20260423T073006
CREATED:20250915T194515Z
LAST-MODIFIED:20250915T194515Z
UID:170000016-1759919400-1759946400@www.nexusmaine.com
SUMMARY:BioME Annual Conference 2025
DESCRIPTION:Join us at the BioME Annual Conference 2025 on October 8 at University of Southern Maine in Portland. Learn about the life sciences industry in Maine and network with the biotech and medical device community at our biggest event of the year. The Conference will feature panel sessions\, engaging talks\, presentations\, networking and expo tables.
URL:https://www.nexusmaine.com/event/biome-annual-conference-2025/
LOCATION:University of Southern Maine\, 88 Bedford St\, Portland\, 04101\, United States
CATEGORIES:Education,Networking,Tech
END:VEVENT
BEGIN:VEVENT
DTSTART;TZID=America/New_York:20251008T190000
DTEND;TZID=America/New_York:20251008T210000
DTSTAMP:20260423T073006
CREATED:20250915T194242Z
LAST-MODIFIED:20250915T194242Z
UID:170000015-1759950000-1759957200@www.nexusmaine.com
SUMMARY:Maine Data & AI Social Meetup
DESCRIPTION:Get together socially to talk data\, AI and other things over a drink! \nCheck in at front desk for location when you arrive – we are usually in the table area by the front windows. \nBackup location downstairs in the room with bubble hockey!
URL:https://www.nexusmaine.com/event/maine-data-ai-social-meetup/
LOCATION:Arcadia\, 504 Congress\, Portland\, 04101\, United States
CATEGORIES:Networking,Tech
END:VEVENT
BEGIN:VEVENT
DTSTART;TZID=America/New_York:20251014T000000
DTEND;TZID=America/New_York:20251014T000000
DTSTAMP:20260423T073006
CREATED:20251009T003303Z
LAST-MODIFIED:20251009T003911Z
UID:170000026-1760400000-1760400000@www.nexusmaine.com
SUMMARY:Wave Making: An Evening of Impact with Author David E. Shaw
DESCRIPTION:Wave Making: An Evening of Impact with Author David E. Shaw\nTuesday\, October 14\, 4pm – 6pm EDT\nThe Roux Institute at Northeastern University\, Portland\, ME
URL:https://www.nexusmaine.com/event/wave-making-an-evening-of-impact-with-author-david-e-shaw/
LOCATION:Roux Institute at Northeastern University\, 100 Fore St.\, Portland\, ME\, 04101\, United States
CATEGORIES:Education,Networking
END:VEVENT
BEGIN:VEVENT
DTSTART;VALUE=DATE:20251016
DTEND;VALUE=DATE:20251017
DTSTAMP:20260423T073006
CREATED:20250915T194820Z
LAST-MODIFIED:20250915T194820Z
UID:170000017-1760572800-1760659199@www.nexusmaine.com
SUMMARY:GROWSMART MAINE SUMMIT 2025
DESCRIPTION:Maine’s rural communities are defined by local heritage and spirit\, and impacted\, for better or worse\, by the intersections of Federal\, state\, local policies and investments. This summit will delve into how Maine’s rural communities can navigate the complex interplay of federal\, state\, and local policies and investments to build resilient and prosperous futures\, while preserving their distinct sense of place.
URL:https://www.nexusmaine.com/event/growsmart-maine-summit-2025/
LOCATION:Waterville Opera House\, 1 Common St\, Waterville\, 04901\, United States
CATEGORIES:Education,Networking
END:VEVENT
BEGIN:VEVENT
DTSTART;VALUE=DATE:20251021
DTEND;VALUE=DATE:20251024
DTSTAMP:20260423T073006
CREATED:20250915T194945Z
LAST-MODIFIED:20250915T194945Z
UID:170000018-1761004800-1761263999@www.nexusmaine.com
SUMMARY:Maine Tech week
DESCRIPTION:Maine Tech Week is the annual gathering for Maine’s curious\, creative\, and driven minds. It features talks\, hands-on sessions\, and collaborative events rooted in Maine grit and curiosity. The week inspires and empowers everyone in our tech ecosystem to build\, connect\, and explore what’s next for our region. For our inaugural event\, this year’s theme will be Past\, Present\, and Future\, allowing us to celebrate where we’ve come from\, the innovations shaping our world today\, and the bold ideas that will define tomorrow. In addition to our own programming\, we encourage everyone in the broader Maine technology and media community to host events and submit them for inclusion on the official calendar. Maine Tech Week isn’t another buttoned-up tech conference; it’s a working session for smart\, driven people who want to roll up their sleeves and figure stuff out together. Come join the movement.
URL:https://www.nexusmaine.com/event/maine-tech-week/
LOCATION:Portland (TBD)\, Portland\, ME\, United States
END:VEVENT
BEGIN:VEVENT
DTSTART;TZID=America/New_York:20251021T163000
DTEND;TZID=America/New_York:20251021T193000
DTSTAMP:20260423T073006
CREATED:20250915T195207Z
LAST-MODIFIED:20251009T002726Z
UID:170000019-1761064200-1761075000@www.nexusmaine.com
SUMMARY:Maine Community Bank's 2025 LaunchPad Live Event
DESCRIPTION:Save your seat at Innovation Hall for Maine Community Bank’s LaunchPad\, Maine’s premier competition for innovative small businesses. Who will earn our $50\,000 grant? See finalists pitch live to\, and field questions from\, an independent panel of judges\, on Tuesday\, October 21 to find out. Join us in-person at 4:30pm for a social hour before the 5:30pm competition. UNE’s Innovation Hall (Portland Campus)\, 772 Stevens Ave – get directions . Free parking on campus. Also\, see pitch videos from additional finalists as they compete for our $20\,000 Emerging Business
URL:https://www.nexusmaine.com/event/maine-community-banks-2025-launchpad-live-event/
LOCATION:UNE’s Innovation Hall – Portland Campus\, 772 Stevens Avenue\, Portland\, 04103\, United States
CATEGORIES:Networking,Startup,Tech
END:VEVENT
BEGIN:VEVENT
DTSTART;TZID=America/New_York:20251023T130000
DTEND;TZID=America/New_York:20251023T170000
DTSTAMP:20260423T073006
CREATED:20250915T195340Z
LAST-MODIFIED:20250915T195340Z
UID:170000020-1761224400-1761238800@www.nexusmaine.com
SUMMARY:MAINE ALGAE SCIENCE DAY
DESCRIPTION:At this energizing\, free of charge\, half‑day event you’ll hear from both micro and macro algae science experts\, several early stage entrepreneurs and experienced investors about the potential for innovative growth in algae-related sectors in Maine and throughout New England. We’ll focus on commercialization opportunities for innovative products in aquaculture\, agriculture\, biochemicals and “healthy‑aging” markets that are ripe for investment. Please join us to help shape this nascent ecosystem and ensure that Maine seizes its competitive advantage in the next wave of algae‑based innovation.
URL:https://www.nexusmaine.com/event/maine-algae-science-day/
LOCATION:Cohen Center & Atrium\, 350 Commercial St\, Portland\, 04101\, United States
CATEGORIES:Education,Networking
END:VEVENT
BEGIN:VEVENT
DTSTART;TZID=America/New_York:20251028T083000
DTEND;TZID=America/New_York:20251028T170000
DTSTAMP:20260423T073006
CREATED:20251011T183634Z
LAST-MODIFIED:20251011T183634Z
UID:170000028-1761640200-1761670800@www.nexusmaine.com
SUMMARY:BLITZ Conference 2025: Navigating Change\, Seizing Opportunity
DESCRIPTION:Get ready for BLITZ Conference 2025 where we’ll tackle how to navigate change and grab hold of new opportunities – it’s gonna be epic!
URL:https://www.nexusmaine.com/event/blitz-conference-2025-navigating-change-seizing-opportunity/
END:VEVENT
BEGIN:VEVENT
DTSTART;TZID=America/New_York:20251028T163000
DTEND;TZID=America/New_York:20251028T180000
DTSTAMP:20260423T073006
CREATED:20250915T195500Z
LAST-MODIFIED:20250915T195500Z
UID:170000021-1761669000-1761674400@www.nexusmaine.com
SUMMARY:Maine Visionary Leaders
DESCRIPTION:The NACD New England Chapter\, The Roux Institute at Northeastern University and the Portland Regional Chamber of Commerce are pleased to present a special Visionaries event celebrating the far-reaching vision of Maine and New England business leaders. \nThe event will bring together CEOs from a diverse set of Maine businesses together with key leaders from State Government to discuss how businesses in the region are navigating the new world of uncertainty. From changing patterns of trade and tariffs to AI and emerging technologies. \nFor boards and their directors\, building an agile and resilient environment has never been as important as it is today. Decisions made today will have widespread impacts. Some decisions lead to consequences that cannot be predicted or clearly defined. What framework for decision-making have leading boards adopted in the current environment? What are the current issues at the top of boards’ agendas? What do boards need to understand? How can they stay current and where should they focus?
URL:https://www.nexusmaine.com/event/maine-visionary-leaders/
LOCATION:Roux Institute at Northeastern University\, 100 Fore St.\, Portland\, ME\, 04101\, United States
CATEGORIES:Education,Networking,Startup,Tech
END:VEVENT
END:VCALENDAR