BEGIN:VCALENDAR
VERSION:2.0
PRODID:-//Nexus Maine - ECPv6.15.20//NONSGML v1.0//EN
CALSCALE:GREGORIAN
METHOD:PUBLISH
X-WR-CALNAME:Nexus Maine
X-ORIGINAL-URL:https://www.nexusmaine.com
X-WR-CALDESC:Events for Nexus Maine
REFRESH-INTERVAL;VALUE=DURATION:PT1H
X-Robots-Tag:noindex
X-PUBLISHED-TTL:PT1H
BEGIN:VTIMEZONE
TZID:America/New_York
BEGIN:DAYLIGHT
TZOFFSETFROM:-0500
TZOFFSETTO:-0400
TZNAME:EDT
DTSTART:20240310T070000
END:DAYLIGHT
BEGIN:STANDARD
TZOFFSETFROM:-0400
TZOFFSETTO:-0500
TZNAME:EST
DTSTART:20241103T060000
END:STANDARD
BEGIN:DAYLIGHT
TZOFFSETFROM:-0500
TZOFFSETTO:-0400
TZNAME:EDT
DTSTART:20250309T070000
END:DAYLIGHT
BEGIN:STANDARD
TZOFFSETFROM:-0400
TZOFFSETTO:-0500
TZNAME:EST
DTSTART:20251102T060000
END:STANDARD
BEGIN:DAYLIGHT
TZOFFSETFROM:-0500
TZOFFSETTO:-0400
TZNAME:EDT
DTSTART:20260308T070000
END:DAYLIGHT
BEGIN:STANDARD
TZOFFSETFROM:-0400
TZOFFSETTO:-0500
TZNAME:EST
DTSTART:20261101T060000
END:STANDARD
END:VTIMEZONE
BEGIN:VEVENT
DTSTART;TZID=America/New_York:20251203T073000
DTEND;TZID=America/New_York:20251203T170000
DTSTAMP:20260423T050756
CREATED:20251122T204608Z
LAST-MODIFIED:20251122T204608Z
UID:170000034-1764747000-1764781200@www.nexusmaine.com
SUMMARY:Mainebiz Bangor 60 Ideas in 60 Minutes Forum 2025
DESCRIPTION:The 60 Ideas in 60 Minutes forum brings together a panel of Maine CEOs to share their personal stories of success & learning experiences\n\n\n\nThe Mainebiz 60 Ideas in 60 Minutes Forum brings together a panel of six Maine CEOs and leaders to each share 10 ideas that business executives can learn from. Covering everything from how to successfully run and operate a business\, to effective ways to motivate and manage people\, our panelists will discuss and expound on their secrets to success. \nWhether you’re an entrepreneur\, a business leader\, or someone looking for inspiration\, you’ll walk away with 60 actionable ideas that can transform your career and life.
URL:https://www.nexusmaine.com/event/mainebiz-bangor-60-ideas-in-60-minutes-forum-2025/
CATEGORIES:Education,Networking
END:VEVENT
BEGIN:VEVENT
DTSTART;TZID=America/New_York:20251210T170000
DTEND;TZID=America/New_York:20251210T190000
DTSTAMP:20260423T050756
CREATED:20251122T204854Z
LAST-MODIFIED:20251122T204854Z
UID:170000035-1765386000-1765393200@www.nexusmaine.com
SUMMARY:E2Tech Annual Winter Celebration
DESCRIPTION:E2Tech hosts an annual gathering where members and friends can network and talk with colleagues about successes and challenges from the past year and what’s exciting about the coming year.
URL:https://www.nexusmaine.com/event/e2tech-annual-winter-celebration/
CATEGORIES:Tech
END:VEVENT
BEGIN:VEVENT
DTSTART;TZID=America/New_York:20251211T000000
DTEND;TZID=America/New_York:20251211T000000
DTSTAMP:20260423T050756
CREATED:20251103T122303Z
LAST-MODIFIED:20251122T204158Z
UID:170000033-1765411200-1765411200@www.nexusmaine.com
SUMMARY:Pre-Holidays OWASP Maine AppSec + Software Engineering Event
DESCRIPTION:https://www.meetup.com/owasp-maine/events/311781725/ \nDetails:\nThursday 12/11/25 Save the date!! After a bit of a hiatus this summer due to the chapter leaders having a busy year\, we are back to meeting quarterly and want to get all the AppSec and security-minded Software Engineers and DevOps team members together for some drinks and getting to know each other! All sponsored by our great friends at Semgrep! \nThis event will be a professional networking event\, allowing application security\, cloud security\, DevOps\, and software development engineers to meet and network and collaborate on application and software security. Stay connected on Slack\, LinkedIn\, or Twitter. \nJoin us and tell your peers to join as well! \nWhen: Thursday December 11th 2025 5:30pm – 7:30pm est\nWhere: Novel Maine 643 Congress St\, Portland\, ME 04101\nWho: Security and Development leadership and practitioners from Maine and all of northern New England
URL:https://www.nexusmaine.com/event/pre-holidays-owasp-maine-appsec-software-engineering-event/
END:VEVENT
BEGIN:VEVENT
DTSTART;TZID=America/New_York:20251211T000000
DTEND;TZID=America/New_York:20251211T000000
DTSTAMP:20260423T050756
CREATED:20251205T201047Z
LAST-MODIFIED:20251205T203406Z
UID:170000039-1765411200-1765411200@www.nexusmaine.com
SUMMARY:Maine Innovation Holiday Meetup @ Orange Bike Brewing
DESCRIPTION:Join us for a casual holiday-season meetup with Orange Bike Brewing and the Established Ventures community. This is an opportunity to connect with local innovators\, meet the Orange Bike team\, and experience Maine’s newest gluten-free craft brewery firsthand. \nWhether you’re already cheering on Orange Bike’s mission or are simply curious about the people and the craft behind the brand\, we’d love to have you with us. Expect good conversation\, a warm community vibe\, and a chance to celebrate the momentum brewing right here in Maine. \n👋 Who This Is For\n• Orange Bike Brewing supporters and friends• Maine innovation & entrepreneurship community members\n• Those interested in learning more about the brewery’s journey \n🎯 Why Attend\n• Meet the Orange Bike team and community• Explore the brewery and hear about what’s ahead.\n• Connect with like-minded founders\, operators\, and business leaders in Maine\n• Festive ukulele holiday tunes from the 2nd Chance Ukulele Band \nBeverages will be available for purchase. \n➡️ Space is limited — please RSVP to secure your spot.\nhttps://luma.com/psmvqzv6
URL:https://www.nexusmaine.com/event/maine-innovation-holiday-meetup-orange-bike-brewing/
END:VEVENT
BEGIN:VEVENT
DTSTART;TZID=America/New_York:20251211T110000
DTEND;TZID=America/New_York:20251211T130000
DTSTAMP:20260423T050756
CREATED:20251122T205006Z
LAST-MODIFIED:20251122T205006Z
UID:170000036-1765450800-1765458000@www.nexusmaine.com
SUMMARY:Intrapreneurship for Nonprofits: Avangrid Foundation
DESCRIPTION:Intrapreneurship for Nonprofits 2025\, supported by the Avangrid Foundation\, helps Maine nonprofits apply entrepreneurial thinking to strengthen their missions and expand their impact. The five-month program equips leaders with tools to develop new revenue streams\, refine business models\, explore pricing and marketing strategies\, and build a strong online presence – all culminating in a showcase on December 11\, where participants will present their progress and future plans. \nNonprofit leaders are paired with mentors and Northeastern student co-ops specializing in business analysis\, marketing\, and design\, ensuring hands-on guidance throughout the program. By fostering “intrapreneurship” — the practice of innovating from within an organization — the program empowers nonprofits to test bold ideas\, create sustainable models\, and scale their impact. \nThis year’s cohort includes: Gulf of Maine Research Institute\, Portland Museum of Art\, Camp Sunshine\, Marine Mammals of Maine\, Maine Discovery Museum\, Mayo Street Arts\, Portland Gear Hub\, ArtVan\, Diverse BookFinder\, and Maine Inside Out. \nRegister today to hear the final pitches from these fantastic organizations! Lunch is included for all who join.
URL:https://www.nexusmaine.com/event/intrapreneurship-for-nonprofits-avangrid-foundation/
END:VEVENT
END:VCALENDAR