BEGIN:VCALENDAR
VERSION:2.0
PRODID:-//Nexus Maine - ECPv6.15.20//NONSGML v1.0//EN
CALSCALE:GREGORIAN
METHOD:PUBLISH
X-WR-CALNAME:Nexus Maine
X-ORIGINAL-URL:https://www.nexusmaine.com
X-WR-CALDESC:Events for Nexus Maine
REFRESH-INTERVAL;VALUE=DURATION:PT1H
X-Robots-Tag:noindex
X-PUBLISHED-TTL:PT1H
BEGIN:VTIMEZONE
TZID:America/New_York
BEGIN:DAYLIGHT
TZOFFSETFROM:-0500
TZOFFSETTO:-0400
TZNAME:EDT
DTSTART:20240310T070000
END:DAYLIGHT
BEGIN:STANDARD
TZOFFSETFROM:-0400
TZOFFSETTO:-0500
TZNAME:EST
DTSTART:20241103T060000
END:STANDARD
BEGIN:DAYLIGHT
TZOFFSETFROM:-0500
TZOFFSETTO:-0400
TZNAME:EDT
DTSTART:20250309T070000
END:DAYLIGHT
BEGIN:STANDARD
TZOFFSETFROM:-0400
TZOFFSETTO:-0500
TZNAME:EST
DTSTART:20251102T060000
END:STANDARD
BEGIN:DAYLIGHT
TZOFFSETFROM:-0500
TZOFFSETTO:-0400
TZNAME:EDT
DTSTART:20260308T070000
END:DAYLIGHT
BEGIN:STANDARD
TZOFFSETFROM:-0400
TZOFFSETTO:-0500
TZNAME:EST
DTSTART:20261101T060000
END:STANDARD
END:VTIMEZONE
BEGIN:VEVENT
DTSTART;TZID=America/New_York:20251001T180000
DTEND;TZID=America/New_York:20251001T203000
DTSTAMP:20260421T224119
CREATED:20250915T193742Z
LAST-MODIFIED:20250915T193742Z
UID:170000013-1759341600-1759350600@www.nexusmaine.com
SUMMARY:Allied Whale Benefit
DESCRIPTION:Join us for an unforgettable evening of food\, music\, and conservation\, and experience the unveiling of a fully-articulated 53-foot fin whale skeleton\, installed in the tasting room at Maine Beer Company by College of the Atlantic alum Dan DenDanto ’91. This installation is a first-of-its-kind—approved by NOAA in recognition of Maine Beer Company’s deep commitment to education and conservation. Together\, we’ll celebrate this historic installation\, and make a difference for marine conservation. Don’t miss this special event.
URL:https://www.nexusmaine.com/event/allied-whale-benefit/
LOCATION:Maine Beer Company\, 525 U.S. Rte 1\, Freeport\, ME\, 04032\, United States
END:VEVENT
END:VCALENDAR